BEGIN:VCALENDAR
VERSION:2.0
CALSCALE:GREGORIAN
BEGIN:VEVENT
DTSTART;TZID=Europe/Berlin:20241105T140000
DTEND;TZID=Europe/Berlin:20241106T000000
SUMMARY:Recherche in Datenbanken
DESCRIPTION:
END:VEVENT
END:VCALENDAR