BEGIN:VCALENDAR
VERSION:2.0
CALSCALE:GREGORIAN
BEGIN:VEVENT
DTSTART;TZID=Europe/Berlin:20241022T140000
DTEND;TZID=Europe/Berlin:20241023T000000
SUMMARY:Grundlagen der Literaturrecherche
DESCRIPTION:
END:VEVENT
END:VCALENDAR