BEGIN:VCALENDAR
VERSION:2.0
CALSCALE:GREGORIAN
BEGIN:VEVENT
DTSTART;TZID=Europe/Berlin:20251015T161500
DTEND;TZID=Europe/Berlin:20251016T000000
SUMMARY:Entdecke deine HSB Zittau
DESCRIPTION:Schaut vorbei und entdeckt den Lern(t)raum Bibliothek!
END:VEVENT
END:VCALENDAR